BEGIN:VCALENDAR
PRODID:-//Google Inc//Google Calendar 70.9054//EN
VERSION:2.0
CALSCALE:GREGORIAN
METHOD:PUBLISH
X-WR-CALNAME:Krypto10
X-WR-TIMEZONE:Europe/Stockholm
X-WR-CALDESC:
BEGIN:VEVENT
DTSTART:20100202T090000Z
DTEND:20100202T110000Z
DTSTAMP:20100126T123516Z
UID:CSVConvert86991a0bf7335f5b9e18d3ab0278eb31
CREATED:19000101T120000Z
DESCRIPTION:
LAST-MODIFIED:20100126T123253Z
LOCATION:
SEQUENCE:0
STATUS:CONFIRMED
SUMMARY:Krypto10 L5 V34
TRANSP:OPAQUE
END:VEVENT
BEGIN:VEVENT
DTSTART:20100128T120000Z
DTEND:20100128T140000Z
DTSTAMP:20100126T123516Z
UID:CSVConvert5101c1702671e562d58b9a4dbe5908eb
CREATED:19000101T120000Z
DESCRIPTION:
LAST-MODIFIED:20100126T123243Z
LOCATION:
SEQUENCE:0
STATUS:CONFIRMED
SUMMARY:Krypto10 L4 Q33
TRANSP:OPAQUE
END:VEVENT
BEGIN:VEVENT
DTSTART:20100309T120000Z
DTEND:20100309T140000Z
DTSTAMP:20100126T123516Z
UID:CSVConvertb41aa8e26a0135797593dd0751378032
CREATED:19000101T120000Z
DESCRIPTION:
LAST-MODIFIED:20100126T123457Z
LOCATION:
SEQUENCE:8
STATUS:CONFIRMED
SUMMARY:Krypto10 L14 Q33
TRANSP:OPAQUE
END:VEVENT
BEGIN:VEVENT
DTSTART:20100218T070000Z
DTEND:20100218T090000Z
DTSTAMP:20100126T123516Z
UID:CSVConvertb9581ad55f6482d24534299e4f875a2b
CREATED:19000101T120000Z
DESCRIPTION:
LAST-MODIFIED:20100126T123336Z
LOCATION:
SEQUENCE:8
STATUS:CONFIRMED
SUMMARY:Krypto10 L9 Q34
TRANSP:OPAQUE
END:VEVENT
BEGIN:VEVENT
DTSTART:20100204T140000Z
DTEND:20100204T160000Z
DTSTAMP:20100126T123516Z
UID:CSVConvert5722b9ec87039c53392ec67e1fe1af95
CREATED:19000101T120000Z
DESCRIPTION:
LAST-MODIFIED:20100126T123303Z
LOCATION:
SEQUENCE:12
STATUS:CONFIRMED
SUMMARY:Krypto10 L6 Q34
TRANSP:OPAQUE
END:VEVENT
BEGIN:VEVENT
DTSTART:20100311T090000Z
DTEND:20100311T110000Z
DTSTAMP:20100126T123516Z
UID:e7vqr82f3s8s6i9agipb186fg0@google.com
ATTENDEE;CUTYPE=INDIVIDUAL;ROLE=REQ-PARTICIPANT;PARTSTAT=ACCEPTED;CN=Krypto
 10;X-NUM-GUESTS=0:mailto:nj85gdn9vh1635e6nvd6rll1u4@group.calendar.google.c
 om
CREATED:20100111T180506Z
DESCRIPTION:
LAST-MODIFIED:20100126T123505Z
LOCATION:
SEQUENCE:2
STATUS:CONFIRMED
SUMMARY:Krypto10 L15 Q31
TRANSP:OPAQUE
END:VEVENT
BEGIN:VEVENT
DTSTART:20100216T090000Z
DTEND:20100216T110000Z
DTSTAMP:20100126T123516Z
UID:CSVConverte2ee832d546847353b7f4fdc91659ea0
CREATED:19000101T120000Z
DESCRIPTION:
LAST-MODIFIED:20100126T123321Z
LOCATION:
SEQUENCE:2
STATUS:CONFIRMED
SUMMARY:Krypto10 L8 (NEW TIME) Q34
TRANSP:OPAQUE
END:VEVENT
BEGIN:VEVENT
DTSTART:20100205T090000Z
DTEND:20100205T110000Z
DTSTAMP:20100126T123516Z
UID:CSVConvertf9e5f36d63e03f7d062f21303fedca69
CREATED:19000101T120000Z
DESCRIPTION:
LAST-MODIFIED:20100126T123310Z
LOCATION:
SEQUENCE:10
STATUS:CONFIRMED
SUMMARY:Krypto10 L7 E2
TRANSP:OPAQUE
END:VEVENT
BEGIN:VEVENT
DTSTART:20100304T070000Z
DTEND:20100304T090000Z
DTSTAMP:20100126T123516Z
UID:CSVConvert5eae58e4fcb50fcedfde3adc541e1a40
CREATED:19000101T120000Z
DESCRIPTION:
LAST-MODIFIED:20100126T123425Z
LOCATION:
SEQUENCE:6
STATUS:CONFIRMED
SUMMARY:Krypto10 L13 Q34
TRANSP:OPAQUE
END:VEVENT
BEGIN:VEVENT
DTSTART:20100223T120000Z
DTEND:20100223T140000Z
DTSTAMP:20100126T123516Z
UID:CSVConvert5338ad5417d51aa00cfce5b38f8ca3f2
CREATED:19000101T120000Z
DESCRIPTION:
LAST-MODIFIED:20100126T123349Z
LOCATION:
SEQUENCE:0
STATUS:CONFIRMED
SUMMARY:Krypto10 L10 Q33
TRANSP:OPAQUE
END:VEVENT
BEGIN:VEVENT
DTSTART:20100319T080000Z
DTEND:20100319T080000Z
DTSTAMP:20100126T123516Z
UID:47ivtilc4f4f2gq54qovn89ihs@google.com
CREATED:20100119T143637Z
DESCRIPTION:
LAST-MODIFIED:20100119T143704Z
LOCATION:
SEQUENCE:2
STATUS:CONFIRMED
SUMMARY:DEADLINE: Homework 2 and Research Presentation
TRANSP:OPAQUE
END:VEVENT
BEGIN:VEVENT
DTSTART:20100119T090000Z
DTEND:20100119T110000Z
DTSTAMP:20100126T123516Z
UID:6eddd1848rdvksjvlhg8nf2008@google.com
CREATED:20100111T171300Z
DESCRIPTION:
LAST-MODIFIED:20100119T154713Z
LOCATION:
SEQUENCE:4
STATUS:CONFIRMED
SUMMARY:Krypto10 L1 D34
TRANSP:OPAQUE
END:VEVENT
BEGIN:VEVENT
DTSTART:20100122T120000Z
DTEND:20100122T140000Z
DTSTAMP:20100126T123516Z
UID:2d9d5n0pgti35mo2kdd7fhs2js@google.com
CREATED:20100111T171423Z
DESCRIPTION:
LAST-MODIFIED:20100111T185854Z
LOCATION:
SEQUENCE:4
STATUS:CONFIRMED
SUMMARY:Krypto10 L2 D41
TRANSP:OPAQUE
END:VEVENT
BEGIN:VEVENT
DTSTART:20100225T120000Z
DTEND:20100225T140000Z
DTSTAMP:20100126T123516Z
UID:CSVConvertc874b45585cfdcf69d85cdf7a4e3f93c
CREATED:19000101T120000Z
DESCRIPTION:
LAST-MODIFIED:20100126T123403Z
LOCATION:
SEQUENCE:14
STATUS:CONFIRMED
SUMMARY:Krypto10 L11 (NEW TIME) Q34\, DEADLINE Homework 1 before start of l
 ecture
TRANSP:OPAQUE
END:VEVENT
BEGIN:VEVENT
DTSTART:20100126T090000Z
DTEND:20100126T110000Z
DTSTAMP:20100126T123516Z
UID:CSVConvertb48fe0cb57d3939ed248c9abfbe2cf80
CREATED:19000101T120000Z
DESCRIPTION:
LAST-MODIFIED:20100126T123236Z
LOCATION:
SEQUENCE:6
STATUS:CONFIRMED
SUMMARY:Krypto10 L3 (NEW TIME) Q33
TRANSP:OPAQUE
END:VEVENT
BEGIN:VEVENT
DTSTART:20100302T120000Z
DTEND:20100302T140000Z
DTSTAMP:20100126T123516Z
UID:CSVConvert2b7c0689717ec95262d71e6f61969691
CREATED:19000101T120000Z
DESCRIPTION:
LAST-MODIFIED:20100126T123418Z
LOCATION:
SEQUENCE:6
STATUS:CONFIRMED
SUMMARY:Krypto10 L12 Q31
TRANSP:OPAQUE
END:VEVENT
END:VCALENDAR
